BEGIN:VCALENDAR
VERSION:2.0
PRODID:-//Farm.One - ECPv6.15.20//NONSGML v1.0//EN
CALSCALE:GREGORIAN
METHOD:PUBLISH
X-WR-CALNAME:Farm.One
X-ORIGINAL-URL:https://farm.one
X-WR-CALDESC:Events for Farm.One
REFRESH-INTERVAL;VALUE=DURATION:PT1H
X-Robots-Tag:noindex
X-PUBLISHED-TTL:PT1H
BEGIN:VTIMEZONE
TZID:America/New_York
BEGIN:DAYLIGHT
TZOFFSETFROM:-0500
TZOFFSETTO:-0400
TZNAME:EDT
DTSTART:20240310T070000
END:DAYLIGHT
BEGIN:STANDARD
TZOFFSETFROM:-0400
TZOFFSETTO:-0500
TZNAME:EST
DTSTART:20241103T060000
END:STANDARD
BEGIN:DAYLIGHT
TZOFFSETFROM:-0500
TZOFFSETTO:-0400
TZNAME:EDT
DTSTART:20250309T070000
END:DAYLIGHT
BEGIN:STANDARD
TZOFFSETFROM:-0400
TZOFFSETTO:-0500
TZNAME:EST
DTSTART:20251102T060000
END:STANDARD
BEGIN:DAYLIGHT
TZOFFSETFROM:-0500
TZOFFSETTO:-0400
TZNAME:EDT
DTSTART:20260308T070000
END:DAYLIGHT
BEGIN:STANDARD
TZOFFSETFROM:-0400
TZOFFSETTO:-0500
TZNAME:EST
DTSTART:20261101T060000
END:STANDARD
END:VTIMEZONE
BEGIN:VEVENT
DTSTART;TZID=America/New_York:20251208T180000
DTEND;TZID=America/New_York:20251208T200000
DTSTAMP:20260424T094111
CREATED:20251203T223500Z
LAST-MODIFIED:20251203T223533Z
UID:10000134-1765216800-1765224000@farm.one
SUMMARY:Airbnb Experiences: Farm Dinner with Pierce Abernathy
DESCRIPTION:Get a rare glimpse of an innovative indoor Brooklyn farm with the chef and content creator. Share a meal he’s prepared around just-picked flowers\, herbs\, and greens. \nMeet me at Farm.One\nJoin me in the farm’s Brooklyn taproom and settle in with an herb-infused welcome drink. \nTour spaces not open to the public\nI’ll guide you through stacks of LED-lit greens that stretch up to the ceiling. \nTaste as we tour\nWe’ll pluck herbs\, microgreens\, and edible flowers from the racks to sample the goods. \nFarm-to-table dinner\nI’ll make you a three-course dinner with fresh Farm.One produce and share stories about each dish. \nWind down with dessert\nWe’ll talk about how hydroponic farming is changing NY’s food scene. I’ll send you off with a gift. \nThis experience is hosted in English.
URL:https://farm.one/event/airbnb-experiences-farm-dinner-with-pierce-abernathy-2/
LOCATION:Farm.One\, 625 Bergen Street\, Brooklyn\, NY\, 11238
CATEGORIES:Events
ATTACH;FMTTYPE=image/avif:https://farm.one/wp-content/uploads/2025/12/pierce-in-racks.avif
END:VEVENT
END:VCALENDAR