BEGIN:VCALENDAR
VERSION:2.0
PRODID:-//Farm.One - ECPv6.15.20//NONSGML v1.0//EN
CALSCALE:GREGORIAN
METHOD:PUBLISH
X-ORIGINAL-URL:https://farm.one
X-WR-CALDESC:Events for Farm.One
REFRESH-INTERVAL;VALUE=DURATION:PT1H
X-Robots-Tag:noindex
X-PUBLISHED-TTL:PT1H
BEGIN:VTIMEZONE
TZID:America/New_York
BEGIN:DAYLIGHT
TZOFFSETFROM:-0500
TZOFFSETTO:-0400
TZNAME:EDT
DTSTART:20250309T070000
END:DAYLIGHT
BEGIN:STANDARD
TZOFFSETFROM:-0400
TZOFFSETTO:-0500
TZNAME:EST
DTSTART:20251102T060000
END:STANDARD
BEGIN:DAYLIGHT
TZOFFSETFROM:-0500
TZOFFSETTO:-0400
TZNAME:EDT
DTSTART:20260308T070000
END:DAYLIGHT
BEGIN:STANDARD
TZOFFSETFROM:-0400
TZOFFSETTO:-0500
TZNAME:EST
DTSTART:20261101T060000
END:STANDARD
BEGIN:DAYLIGHT
TZOFFSETFROM:-0500
TZOFFSETTO:-0400
TZNAME:EDT
DTSTART:20270314T070000
END:DAYLIGHT
BEGIN:STANDARD
TZOFFSETFROM:-0400
TZOFFSETTO:-0500
TZNAME:EST
DTSTART:20271107T060000
END:STANDARD
END:VTIMEZONE
BEGIN:VEVENT
DTSTART;TZID=America/New_York:20260204T200000
DTEND;TZID=America/New_York:20260204T220000
DTSTAMP:20260420T052005
CREATED:20260105T210012Z
LAST-MODIFIED:20260105T210012Z
UID:10000637-1770235200-1770242400@farm.one
SUMMARY:Written in Brooklyn
DESCRIPTION:Written in Brooklyn returns for Valentine’s Day with true stories that might make you laugh\, cry\, and reconsider texting your ex.\n\n\n\nWritten in Brooklyn Storytelling Series presents: Love & Other Mistakes \n📅 February 4\n🕗 8:00 PM (doors 7pm) \nWritten in Brooklyn returns this February with an evening of true stories about love\, heartbreak\, and very cringy things you may or may not have done just to feel a little validation from your crush. \nDon’t miss New York’s best storytellers telling wild talels from their personal life to make ou feel better about yours. \nWhether you’re coupled up\, single\, heartbroken\, or happily over it\, this night is for anyone who’s ever loved imperfectly.
URL:https://farm.one/event/written-in-brooklyn-6/
ATTACH;FMTTYPE=image/jpeg:https://farm.one/wp-content/uploads/2026/01/Lounge-Performance-Set-Up.jpg
END:VEVENT
END:VCALENDAR