BEGIN:VCALENDAR
VERSION:2.0
PRODID:-//Farm.One - ECPv6.15.20//NONSGML v1.0//EN
CALSCALE:GREGORIAN
METHOD:PUBLISH
X-WR-CALNAME:Farm.One
X-ORIGINAL-URL:https://farm.one
X-WR-CALDESC:Events for Farm.One
REFRESH-INTERVAL;VALUE=DURATION:PT1H
X-Robots-Tag:noindex
X-PUBLISHED-TTL:PT1H
BEGIN:VTIMEZONE
TZID:America/New_York
BEGIN:DAYLIGHT
TZOFFSETFROM:-0500
TZOFFSETTO:-0400
TZNAME:EDT
DTSTART:20250309T070000
END:DAYLIGHT
BEGIN:STANDARD
TZOFFSETFROM:-0400
TZOFFSETTO:-0500
TZNAME:EST
DTSTART:20251102T060000
END:STANDARD
BEGIN:DAYLIGHT
TZOFFSETFROM:-0500
TZOFFSETTO:-0400
TZNAME:EDT
DTSTART:20260308T070000
END:DAYLIGHT
BEGIN:STANDARD
TZOFFSETFROM:-0400
TZOFFSETTO:-0500
TZNAME:EST
DTSTART:20261101T060000
END:STANDARD
BEGIN:DAYLIGHT
TZOFFSETFROM:-0500
TZOFFSETTO:-0400
TZNAME:EDT
DTSTART:20270314T070000
END:DAYLIGHT
BEGIN:STANDARD
TZOFFSETFROM:-0400
TZOFFSETTO:-0500
TZNAME:EST
DTSTART:20271107T060000
END:STANDARD
END:VTIMEZONE
BEGIN:VEVENT
DTSTART;TZID=America/New_York:20260301T170000
DTEND;TZID=America/New_York:20260301T190000
DTSTAMP:20260422T050149
CREATED:20260128T205800Z
LAST-MODIFIED:20260211T224724Z
UID:10000642-1772384400-1772391600@farm.one
SUMMARY:Little Nights' Drink 'N Draft
DESCRIPTION:Stuck in your writing? In need of a little more time or inspiration? Drink ‘N Draft makes space for you to get out of your head and onto the page. Each night includes a series of visual prompts that lead you toward new creative choices in your work\, and the chance to experiment with different styles of writing. \nYou’re invited to write something new\, continue a work-in-progress\, or see where the evening takes you. We’ll finish with optional time to share what you’ve written. All genres welcome\, no experience necessary. \nSupplies: All supplies will be provided\, though you’re encouraged to bring your own notebook if you’d like. \nDrinks: Tickets include $9 off any drink at Farm.One’s bar. \nAccess+Seating: We will be on the first floor of a cafe/bar with a mixture of couches and chairs.
URL:https://farm.one/event/little-nights-drink-n-draft-2/
LOCATION:Farm.One\, 625 Bergen Street\, Brooklyn\, NY\, 11238
CATEGORIES:Events
ATTACH;FMTTYPE=image/png:https://farm.one/wp-content/uploads/2026/01/DnD-3.1.png
END:VEVENT
END:VCALENDAR