BEGIN:VCALENDAR
VERSION:2.0
PRODID:-//Farm.One - ECPv6.15.20//NONSGML v1.0//EN
CALSCALE:GREGORIAN
METHOD:PUBLISH
X-ORIGINAL-URL:https://farm.one
X-WR-CALDESC:Events for Farm.One
REFRESH-INTERVAL;VALUE=DURATION:PT1H
X-Robots-Tag:noindex
X-PUBLISHED-TTL:PT1H
BEGIN:VTIMEZONE
TZID:America/New_York
BEGIN:DAYLIGHT
TZOFFSETFROM:-0500
TZOFFSETTO:-0400
TZNAME:EDT
DTSTART:20250309T070000
END:DAYLIGHT
BEGIN:STANDARD
TZOFFSETFROM:-0400
TZOFFSETTO:-0500
TZNAME:EST
DTSTART:20251102T060000
END:STANDARD
BEGIN:DAYLIGHT
TZOFFSETFROM:-0500
TZOFFSETTO:-0400
TZNAME:EDT
DTSTART:20260308T070000
END:DAYLIGHT
BEGIN:STANDARD
TZOFFSETFROM:-0400
TZOFFSETTO:-0500
TZNAME:EST
DTSTART:20261101T060000
END:STANDARD
BEGIN:DAYLIGHT
TZOFFSETFROM:-0500
TZOFFSETTO:-0400
TZNAME:EDT
DTSTART:20270314T070000
END:DAYLIGHT
BEGIN:STANDARD
TZOFFSETFROM:-0400
TZOFFSETTO:-0500
TZNAME:EST
DTSTART:20271107T060000
END:STANDARD
END:VTIMEZONE
BEGIN:VEVENT
DTSTART;TZID=America/New_York:20260315T183000
DTEND;TZID=America/New_York:20260315T213000
DTSTAMP:20260424T102030
CREATED:20260225T171218Z
LAST-MODIFIED:20260225T171218Z
UID:10000646-1773599400-1773610200@farm.one
SUMMARY:Oscars Watch Party
DESCRIPTION:Join us for an Oscars Watch Party\, hosted by Anna Banerjee and Matthew Fennel! \nPreviously hosted at Gertie’s\, we’re thrilled to be the venue for this year. \nThe third annual Oscars watch party is here! Come in your best award ceremony-worthy outfit\, enjoy a complimentary drink at the bar\, eat a delicious dinner catered by Pizza Party\, and watch the 98th Annual Academy Awards with us at farm.one! Doors open at 6:30 pm for the red carpet. Plus ones welcome! Oscar ballots will be available at the door and must be submitted before 7 pm to be eligible for a prize. Trivia teams must sign up by 7 pm to participate. (poster by Kate Snyder)
URL:https://farm.one/event/oscars-watch-party/
ATTACH;FMTTYPE=image/jpeg:https://farm.one/wp-content/uploads/2026/02/Oscars-2026-Poster-Gif-OBAA.jpeg
END:VEVENT
END:VCALENDAR